BEGIN:VCALENDAR
VERSION:2.0
PRODID:-//The Dance Class - ECPv5.7.0//NONSGML v1.0//EN
CALSCALE:GREGORIAN
METHOD:PUBLISH
X-WR-CALNAME:The Dance Class
X-ORIGINAL-URL:http://thedanceclassmilton.com
X-WR-CALDESC:Events for The Dance Class
BEGIN:VTIMEZONE
TZID:UTC
BEGIN:STANDARD
TZOFFSETFROM:+0000
TZOFFSETTO:+0000
TZNAME:UTC
DTSTART:20160101T000000
END:STANDARD
END:VTIMEZONE
BEGIN:VEVENT
DTSTART;VALUE=DATE:20161106
DTEND;VALUE=DATE:20161107
DTSTAMP:20260419T195504
CREATED:20161031T071349Z
LAST-MODIFIED:20161031T071349Z
UID:1942-1478390400-1478476799@thedanceclassmilton.com
SUMMARY:Cecchetti Day (Majors)
DESCRIPTION:Grade 6\, Intermediate and Advanced I/II Classes
URL:http://thedanceclassmilton.com/event/cecchetti-day-majors/
LOCATION:Canada’s National Ballet School\, 400 Jarvis Street\, Toronto\, Ontario \, M4Y 2G6\, Canada
END:VEVENT
END:VCALENDAR