BEGIN:VCALENDAR
VERSION:2.0
PRODID:-//The Dance Class - ECPv5.7.0//NONSGML v1.0//EN
CALSCALE:GREGORIAN
METHOD:PUBLISH
X-WR-CALNAME:The Dance Class
X-ORIGINAL-URL:http://thedanceclassmilton.com
X-WR-CALDESC:Events for The Dance Class
BEGIN:VTIMEZONE
TZID:UTC
BEGIN:STANDARD
TZOFFSETFROM:+0000
TZOFFSETTO:+0000
TZNAME:UTC
DTSTART:20170101T000000
END:STANDARD
END:VTIMEZONE
BEGIN:VEVENT
DTSTART;VALUE=DATE:20170511
DTEND;VALUE=DATE:20170512
DTSTAMP:20260420T134215
CREATED:20161031T185509Z
LAST-MODIFIED:20161031T185509Z
UID:2011-1494460800-1494547199@thedanceclassmilton.com
SUMMARY:Company Audition Ages 8+
DESCRIPTION:Auditions  \nAuditions for our 2017-2018 for dancers 8+ will be held on Thursday\, May 11th\, 2017. Times TBA. Please email the studio to register. \nSuccessful dancers will be required to attend 1 week of TDC Summer Intensive. \nThere is no audition charge for all current TDC dancers. \nAudition fee for students not currently registered at TDC – $25.00.  \nPrivate auditions available for $45.00 \nFAQ’s \nWhat is the audition process? Dancers can attend our open audition in the Spring or schedule a private audition in the Spring/Summer. Once they have been invited into the Competitive program\, all dancers MUST attend one of our Intensive Camps (based on age and ability) as the final stage of the audition. Dancers \nwill be evaluated for additional groups\, duet/trios and solos at this camp. \nWhat is the time requirement? Part time dancers are looking at a 2-3 day commitment and full time dancers will train 3-5 days a week based on how many classes the dancer chooses to participate in. \nHow many classes does my dancer have to take each week? All dancers must take at least one class in ballet\, jazz and tap. Why? Ballet is the foundation of all dance forms and teaches posture\, control and transitions. Tap helps with rhythm\, musicality and fine motor skills and jazz helps with style\, flexibility and co-ordination. \nCan my dancer just compete in Tap\, Hip Hop\, or Acro? All dancers must compete in 1 jazz routine in order to participate in the TDC company. After that\, dancers may be invited into tap\, acro\, hip hop\, ballet\, musical theatre\, lyrical and/or contemporary groups. \n \n \n 
URL:http://thedanceclassmilton.com/event/company-audition-ages-8/
LOCATION:The Dance Class\, 8750 Regional Road 25\, Milton\, Ontario\, L9T 2X7\, Canada
END:VEVENT
END:VCALENDAR