BEGIN:VCALENDAR
VERSION:2.0
PRODID:-//The Dance Class - ECPv5.7.0//NONSGML v1.0//EN
CALSCALE:GREGORIAN
METHOD:PUBLISH
X-WR-CALNAME:The Dance Class
X-ORIGINAL-URL:http://thedanceclassmilton.com
X-WR-CALDESC:Events for The Dance Class
BEGIN:VTIMEZONE
TZID:UTC
BEGIN:STANDARD
TZOFFSETFROM:+0000
TZOFFSETTO:+0000
TZNAME:UTC
DTSTART:20170101T000000
END:STANDARD
END:VTIMEZONE
BEGIN:VEVENT
DTSTART;VALUE=DATE:20170414
DTEND;VALUE=DATE:20170418
DTSTAMP:20260420T102653
CREATED:20161031T184419Z
LAST-MODIFIED:20161031T184419Z
UID:2003-1492128000-1492473599@thedanceclassmilton.com
SUMMARY:Easter Weekend
DESCRIPTION:The Dance Class will be closed Friday\, April 14th to Monday\, April 17th 2017 for Easter Weekend.
URL:http://thedanceclassmilton.com/event/easter-weekend/
LOCATION:The Dance Class\, 8750 Regional Road 25\, Milton\, Ontario\, L9T 2X7\, Canada
END:VEVENT
END:VCALENDAR