BEGIN:VCALENDAR
VERSION:2.0
PRODID:-//The Dance Class - ECPv5.7.0//NONSGML v1.0//EN
CALSCALE:GREGORIAN
METHOD:PUBLISH
X-WR-CALNAME:The Dance Class
X-ORIGINAL-URL:http://thedanceclassmilton.com
X-WR-CALDESC:Events for The Dance Class
BEGIN:VTIMEZONE
TZID:UTC
BEGIN:STANDARD
TZOFFSETFROM:+0000
TZOFFSETTO:+0000
TZNAME:UTC
DTSTART:20170101T000000
END:STANDARD
END:VTIMEZONE
BEGIN:VEVENT
DTSTART;TZID=UTC:20170204T180000
DTEND;TZID=UTC:20170204T210000
DTSTAMP:20260419T195251
CREATED:20161031T072836Z
LAST-MODIFIED:20161031T072836Z
UID:1984-1486231200-1486242000@thedanceclassmilton.com
SUMMARY:First Look 2017
DESCRIPTION:
URL:http://thedanceclassmilton.com/event/first-look-2017/
LOCATION:Milton Center for the Arts\, 1010 Main Street East\, Milton \, Ontario\, L9T 6H7\, Canada
END:VEVENT
END:VCALENDAR