BEGIN:VCALENDAR
VERSION:2.0
PRODID:-//The Dance Class - ECPv5.7.0//NONSGML v1.0//EN
CALSCALE:GREGORIAN
METHOD:PUBLISH
X-WR-CALNAME:The Dance Class
X-ORIGINAL-URL:http://thedanceclassmilton.com
X-WR-CALDESC:Events for The Dance Class
BEGIN:VTIMEZONE
TZID:UTC
BEGIN:STANDARD
TZOFFSETFROM:+0000
TZOFFSETTO:+0000
TZNAME:UTC
DTSTART:20160101T000000
END:STANDARD
END:VTIMEZONE
BEGIN:VEVENT
DTSTART;VALUE=DATE:20161031
DTEND;VALUE=DATE:20161101
DTSTAMP:20260419T212052
CREATED:20161031T002250Z
LAST-MODIFIED:20161031T002250Z
UID:1937-1477872000-1477958399@thedanceclassmilton.com
SUMMARY:Halloween at TDC!
DESCRIPTION:Happy Halloween Week! \n \nAs we kick off Halloween week we want to encourage all our dancers to wear Orange\, Black and White this week to class.(Costumes can often be restrictive and hot for your dancer to wear for a whole class) \nWe’d love to see your Halloween Costumes at our Halloween Party October 29th\, 2016   5:00-8:00 pm.….. \nGet your favorite costumes ready and brush off your dancing shoes….it’s Party Time! Come support The Nutcracker Holiday Spectacular at our Halloween Costume and Dance Party. Just $10 to enter. All ages welcome! Parent supervision and light refreshments will be provided.\nRSVP at info@thedanceclassmilton.com today!  \n  \nMonday\, October 31st – TDC will be closing at 6:00 pm to allow our dancers plenty of time to Trick-o-Treat!
URL:http://thedanceclassmilton.com/event/halloween-at-tdc/
END:VEVENT
END:VCALENDAR