BEGIN:VCALENDAR
VERSION:2.0
PRODID:-//The Dance Class - ECPv5.7.0//NONSGML v1.0//EN
CALSCALE:GREGORIAN
METHOD:PUBLISH
X-WR-CALNAME:The Dance Class
X-ORIGINAL-URL:http://thedanceclassmilton.com
X-WR-CALDESC:Events for The Dance Class
BEGIN:VTIMEZONE
TZID:UTC
BEGIN:STANDARD
TZOFFSETFROM:+0000
TZOFFSETTO:+0000
TZNAME:UTC
DTSTART:20170101T000000
END:STANDARD
END:VTIMEZONE
BEGIN:VEVENT
DTSTART;TZID=UTC:20170528T120000
DTEND;TZID=UTC:20170528T170000
DTSTAMP:20260420T165845
CREATED:20161031T185852Z
LAST-MODIFIED:20161031T191132Z
UID:2014-1495972800-1495990800@thedanceclassmilton.com
SUMMARY:Recital Rehearsal #2
DESCRIPTION:All dancers in Level 1-4 and our Competitive Dancer will be practicing for our 2017 Spring Recital! \n \n  \nIt is mandatory all dancers attend.
URL:http://thedanceclassmilton.com/event/recital-rehearsal-2/
LOCATION:The Dance Class\, 8750 Regional Road 25\, Milton\, Ontario\, L9T 2X7\, Canada
END:VEVENT
END:VCALENDAR