BEGIN:VCALENDAR
VERSION:2.0
PRODID:-//The Dance Class - ECPv5.7.0//NONSGML v1.0//EN
CALSCALE:GREGORIAN
METHOD:PUBLISH
X-WR-CALNAME:The Dance Class
X-ORIGINAL-URL:http://thedanceclassmilton.com
X-WR-CALDESC:Events for The Dance Class
BEGIN:VTIMEZONE
TZID:UTC
BEGIN:STANDARD
TZOFFSETFROM:+0000
TZOFFSETTO:+0000
TZNAME:UTC
DTSTART:20160101T000000
END:STANDARD
END:VTIMEZONE
BEGIN:VEVENT
DTSTART;TZID=UTC:20161126T190000
DTEND;TZID=UTC:20161126T210000
DTSTAMP:20260419T180416
CREATED:20161031T001554Z
LAST-MODIFIED:20161031T001554Z
UID:1918-1480186800-1480194000@thedanceclassmilton.com
SUMMARY:The Nutcracker Holiday Spectacular
DESCRIPTION:The Nutcracker: Holiday Spectacular\nPresented by The Dance Class\nSaturday\, November 26\, 2016 7:00 pm &\nSunday\, November 27\, 2016 2:00 pm\nMattamy Theatre \nAdult: $35 \nChild*/Student/Senior: $30 \neyeGO: $5 \n  \nCelebrate the season with a classic holiday performance of The Nutcrcker featuring some of Milton’s finest community talent! \nProgram highlights will include a performance honouring Tchaikovsky’s traditional Nutcracker ballet\, and a mixed program of holiday favourites brought to life by artists in our vibrant community. Join us for an evening of holiday entertainment\, presented by The Dance Class with contributions by local artists and supported by Arts Milton. \n* Babes in arms are permitted at this show with their own ticket\, regardless of age.
URL:http://thedanceclassmilton.com/event/the-nutcracker-holiday-spectacular/
LOCATION:Milton Center for the Arts\, 1010 Main Street East\, Milton \, Ontario\, L9T 6H7\, Canada
ORGANIZER;CN="":MAILTO:nutcracker@thedanceclassmilton.com
END:VEVENT
END:VCALENDAR