BEGIN:VCALENDAR
VERSION:2.0
PRODID:-//The Dance Class - ECPv5.7.0//NONSGML v1.0//EN
CALSCALE:GREGORIAN
METHOD:PUBLISH
X-WR-CALNAME:The Dance Class
X-ORIGINAL-URL:http://thedanceclassmilton.com
X-WR-CALDESC:Events for The Dance Class
BEGIN:VTIMEZONE
TZID:UTC
BEGIN:STANDARD
TZOFFSETFROM:+0000
TZOFFSETTO:+0000
TZNAME:UTC
DTSTART:20170101T000000
END:STANDARD
END:VTIMEZONE
BEGIN:VEVENT
DTSTART;VALUE=DATE:20170522
DTEND;VALUE=DATE:20170523
DTSTAMP:20260420T151753
CREATED:20161031T191231Z
LAST-MODIFIED:20161031T191231Z
UID:2016-1495411200-1495497599@thedanceclassmilton.com
SUMMARY:Victoria Day
DESCRIPTION:The Dance Class will be closed on Monday\, May 22nd for Victoria Day!
URL:http://thedanceclassmilton.com/event/victoria-day/
LOCATION:The Dance Class\, 8750 Regional Road 25\, Milton\, Ontario\, L9T 2X7\, Canada
END:VEVENT
END:VCALENDAR