BEGIN:VCALENDAR
VERSION:2.0
PRODID:-//The Dance Class - ECPv5.7.0//NONSGML v1.0//EN
CALSCALE:GREGORIAN
METHOD:PUBLISH
X-WR-CALNAME:The Dance Class
X-ORIGINAL-URL:http://thedanceclassmilton.com
X-WR-CALDESC:Events for The Dance Class
BEGIN:VTIMEZONE
TZID:UTC
BEGIN:STANDARD
TZOFFSETFROM:+0000
TZOFFSETTO:+0000
TZNAME:UTC
DTSTART:20160101T000000
END:STANDARD
END:VTIMEZONE
BEGIN:VEVENT
DTSTART;VALUE=DATE:20161224
DTEND;VALUE=DATE:20170109
DTSTAMP:20260419T180732
CREATED:20161031T072446Z
LAST-MODIFIED:20161031T072446Z
UID:1982-1482537600-1483919999@thedanceclassmilton.com
SUMMARY:Winter Holidays
DESCRIPTION:The Dance Class will be CLOSED for all classes from Friday\, December 23rd to Sunday\, January 8th 2016. \nHappy Holidays!
URL:http://thedanceclassmilton.com/event/winter-holidays/
LOCATION:The Dance Class\, 8750 Regional Road 25\, Milton\, Ontario\, L9T 2X7\, Canada
END:VEVENT
END:VCALENDAR